BEGIN:VCALENDAR
VERSION:2.0
PRODID:-//wp-events-plugin.com//7.2.3.1//EN
TZID:Europe/Berlin
X-WR-TIMEZONE:Europe/Berlin
BEGIN:VEVENT
UID:145@rsverding.de
DTSTART;TZID=Europe/Berlin:20250803T070000
DTEND;TZID=Europe/Berlin:20250803T180000
DTSTAMP:20250404T133629Z
URL:https://rsverding.de/events/rtf-durchs-erdinger-holzland/
SUMMARY:RTF „Durchs Erdinger Holzland“
DESCRIPTION:
CATEGORIES:Rennsport Veranstaltungen,Vereins Veranstaltungen
LOCATION:Semptsporthalle\, Pretzener Weg 26\, Erding\, Deutschland
X-APPLE-STRUCTURED-LOCATION;VALUE=URI;X-ADDRESS=Pretzener Weg 26\, Erding\,
  Deutschland;X-APPLE-RADIUS=100;X-TITLE=Semptsporthalle:geo:0,0
END:VEVENT
BEGIN:VTIMEZONE
TZID:Europe/Berlin
X-LIC-LOCATION:Europe/Berlin
BEGIN:DAYLIGHT
DTSTART:20250330T030000
TZOFFSETFROM:+0100
TZOFFSETTO:+0200
TZNAME:CEST
END:DAYLIGHT
END:VTIMEZONE
END:VCALENDAR