BEGIN:VCALENDAR
VERSION:2.0
PRODID:-//wp-events-plugin.com//7.2.3.1//EN
TZID:Europe/Berlin
X-WR-TIMEZONE:Europe/Berlin
BEGIN:VEVENT
UID:10@rsverding.de
DTSTART;TZID=Europe/Berlin:20240930T180000
DTEND;TZID=Europe/Berlin:20240930T200000
DTSTAMP:20240913T105300Z
URL:https://rsverding.de/events/rennrad-training-2024-09-30/
SUMMARY:Rennrad-Training
DESCRIPTION:Trainiert wird ca 2h mit ca 60 km
ATTACH;FMTTYPE=image/jpeg:https://rsverding.de/wp-content/uploads/2024/08/
 Screenshot-2024-08-08-160902.jpg
CATEGORIES:Rennsport Veranstaltungen
LOCATION:Erding - Schwimmbad\, Am Stadion 12\, Erding\, Bayern\, 85435\, De
 utschland
X-APPLE-STRUCTURED-LOCATION;VALUE=URI;X-ADDRESS=Am Stadion 12\, Erding\, Ba
 yern\, 85435\, Deutschland;X-APPLE-RADIUS=100;X-TITLE=Erding - Schwimmbad:
 geo:0,0
END:VEVENT
BEGIN:VTIMEZONE
TZID:Europe/Berlin
X-LIC-LOCATION:Europe/Berlin
BEGIN:DAYLIGHT
DTSTART:20240331T030000
TZOFFSETFROM:+0100
TZOFFSETTO:+0200
TZNAME:CEST
END:DAYLIGHT
END:VTIMEZONE
END:VCALENDAR